BEGIN:VCALENDAR
VERSION:2.0
PRODID:-//Spaceworks Tacoma - ECPv6.15.20//NONSGML v1.0//EN
CALSCALE:GREGORIAN
METHOD:PUBLISH
X-WR-CALNAME:Spaceworks Tacoma
X-ORIGINAL-URL:https://www.spaceworkstacoma.com
X-WR-CALDESC:Events for Spaceworks Tacoma
REFRESH-INTERVAL;VALUE=DURATION:PT1H
X-Robots-Tag:noindex
X-PUBLISHED-TTL:PT1H
BEGIN:VTIMEZONE
TZID:America/Los_Angeles
BEGIN:DAYLIGHT
TZOFFSETFROM:-0800
TZOFFSETTO:-0700
TZNAME:PDT
DTSTART:20230312T100000
END:DAYLIGHT
BEGIN:STANDARD
TZOFFSETFROM:-0700
TZOFFSETTO:-0800
TZNAME:PST
DTSTART:20231105T090000
END:STANDARD
BEGIN:DAYLIGHT
TZOFFSETFROM:-0800
TZOFFSETTO:-0700
TZNAME:PDT
DTSTART:20240310T100000
END:DAYLIGHT
BEGIN:STANDARD
TZOFFSETFROM:-0700
TZOFFSETTO:-0800
TZNAME:PST
DTSTART:20241103T090000
END:STANDARD
BEGIN:DAYLIGHT
TZOFFSETFROM:-0800
TZOFFSETTO:-0700
TZNAME:PDT
DTSTART:20250309T100000
END:DAYLIGHT
BEGIN:STANDARD
TZOFFSETFROM:-0700
TZOFFSETTO:-0800
TZNAME:PST
DTSTART:20251102T090000
END:STANDARD
END:VTIMEZONE
BEGIN:VEVENT
DTSTART;TZID=America/Los_Angeles:20240406T150000
DTEND;TZID=America/Los_Angeles:20240406T163000
DTSTAMP:20260423T062311
CREATED:20240404T222354Z
LAST-MODIFIED:20240404T223228Z
UID:41473-1712415600-1712421000@www.spaceworkstacoma.com
SUMMARY:Intro to Public Art
DESCRIPTION:Mural By Nori Kimura\nJoin Spaceworks Tacoma for a captivating 90-minute workshop\, where we delve into the dynamic world of public art and its intersection with artistic practice. Led by Jasmine Iona Brown\, Spaceworks Public Art Coordinator\, this session offers a comprehensive exploration of the significance of public art in communities\, the diverse forms it can take\, and the intricate process of creating impactful public art projects. \nFrom iconic sculptures to vibrant murals and immersive installations\, participants will gain invaluable insights into incorporating public art into their own practice\, uncovering opportunities for collaboration\, and navigating the exciting realm of public art initiatives. \nWhether you’re a seasoned artist or just starting your creative journey\, this workshop promises to inspire and equip you with the knowledge and tools to make your mark in the public art sphere. \nRegistration not required\, but encouraged: https://tacoma.bibliocommons.com/events/65a6e031de4b6141009c8859
URL:https://www.spaceworkstacoma.com/event/intro-to-public-art/
LOCATION:Tacoma Public Library – South Tacoma Brach\, 3411 S 56th St\, Tacoma\, WA\, 98409\, United States
ATTACH;FMTTYPE=image/jpeg:https://www.spaceworkstacoma.com/wp-content/uploads/2023/07/mmann_rmercantile-09.jpg
ORGANIZER;CN="Spaceworks Tacoma":MAILTO:spaceworks@tacomachamber.org
END:VEVENT
END:VCALENDAR