BEGIN:VCALENDAR
VERSION:2.0
PRODID:-//Spaceworks Tacoma - ECPv6.15.20//NONSGML v1.0//EN
CALSCALE:GREGORIAN
METHOD:PUBLISH
X-WR-CALNAME:Spaceworks Tacoma
X-ORIGINAL-URL:https://www.spaceworkstacoma.com
X-WR-CALDESC:Events for Spaceworks Tacoma
REFRESH-INTERVAL;VALUE=DURATION:PT1H
X-Robots-Tag:noindex
X-PUBLISHED-TTL:PT1H
BEGIN:VTIMEZONE
TZID:America/Los_Angeles
BEGIN:DAYLIGHT
TZOFFSETFROM:-0800
TZOFFSETTO:-0700
TZNAME:PDT
DTSTART:20220313T100000
END:DAYLIGHT
BEGIN:STANDARD
TZOFFSETFROM:-0700
TZOFFSETTO:-0800
TZNAME:PST
DTSTART:20221106T090000
END:STANDARD
BEGIN:DAYLIGHT
TZOFFSETFROM:-0800
TZOFFSETTO:-0700
TZNAME:PDT
DTSTART:20230312T100000
END:DAYLIGHT
BEGIN:STANDARD
TZOFFSETFROM:-0700
TZOFFSETTO:-0800
TZNAME:PST
DTSTART:20231105T090000
END:STANDARD
BEGIN:DAYLIGHT
TZOFFSETFROM:-0800
TZOFFSETTO:-0700
TZNAME:PDT
DTSTART:20240310T100000
END:DAYLIGHT
BEGIN:STANDARD
TZOFFSETFROM:-0700
TZOFFSETTO:-0800
TZNAME:PST
DTSTART:20241103T090000
END:STANDARD
END:VTIMEZONE
BEGIN:VEVENT
DTSTART;TZID=America/Los_Angeles:20230427T180000
DTEND;TZID=America/Los_Angeles:20230427T200000
DTSTAMP:20260423T045042
CREATED:20230331T220019Z
LAST-MODIFIED:20230419T174328Z
UID:40499-1682618400-1682625600@www.spaceworkstacoma.com
SUMMARY:The 4 Hats of Artists in Business
DESCRIPTION:All. The Hats. Know Them and Wear Them with Style. Creative entrepreneurs have to wear a lot of hats. It is important to step back and see the bigger picture of your business so you can make the best decisions. In this workshop\, we’ll examine the roles\, strategies\, challenges and goals of each of the 4 hats every artist in business should be aware of to create a successful business. We’ll assess your business in each area\, and identify the challenges and opportunities for growth for each part of your business – creation\, leadership\, operations\, and promotions. \nBio: Shannon Borg is an artist\, writer\, and certified life coach who helps creative entrepreneurs master their business and transform their mindset so they can confidently share their gifts with the world and create sustainable businesses.  \nHer podcast\, The Metaphor Mindset Podcast\, offers practical ways to walk the creative path\, along with new ways of thinking about the artful life. \nShe builds Squarespace websites\, and offers one-on-one business coaching through her online program\, Metaphor Mindset Studio\, which includes trainings such as the 4 Hats of Artists in Business\, Artist’s Media Kit MasterClass\, Build Your Art Website on Squarespace\, Evolve Your Creative Process\, and How to Create a Vision for your Art & Business. Visit her at www.shannonborg.com. \n  \nREGISTER HERE: https://shannonborg-discovery.as.me/4-hats \n 
URL:https://www.spaceworkstacoma.com/event/the-4-hats-of-artists-in-business/
LOCATION:Court House Square\, 1102 A St\, Tacoma\, 98402
CATEGORIES:Monthly Workshop Series
ATTACH;FMTTYPE=image/jpeg:https://www.spaceworkstacoma.com/wp-content/uploads/2023/03/4HatsofArtistsinBusinessimage.jpg
ORGANIZER;CN="Spaceworks Tacoma":MAILTO:spaceworks@tacomachamber.org
END:VEVENT
END:VCALENDAR